BEGIN:VCALENDAR
VERSION:2.0
PRODID:-//Golden Acorn Casino - ECPv5.8.0//NONSGML v1.0//EN
CALSCALE:GREGORIAN
METHOD:PUBLISH
X-WR-CALNAME:Golden Acorn Casino
X-ORIGINAL-URL:https://www.goldenacorncasino.com
X-WR-CALDESC:Events for Golden Acorn Casino
BEGIN:VTIMEZONE
TZID:America/Los_Angeles
BEGIN:DAYLIGHT
TZOFFSETFROM:-0800
TZOFFSETTO:-0700
TZNAME:PDT
DTSTART:20250309T100000
END:DAYLIGHT
BEGIN:STANDARD
TZOFFSETFROM:-0700
TZOFFSETTO:-0800
TZNAME:PST
DTSTART:20251102T090000
END:STANDARD
END:VTIMEZONE
BEGIN:VEVENT
DTSTART;TZID=America/Los_Angeles:20250607T180000
DTEND;TZID=America/Los_Angeles:20250607T210000
DTSTAMP:20260425T064213
CREATED:20250401T222211Z
LAST-MODIFIED:20250401T222211Z
UID:9467-1749319200-1749330000@www.goldenacorncasino.com
SUMMARY:Triple Threat Giveaway
DESCRIPTION:Three months. Three cars. Three chances to drive away a winner! \n📅 Earn Entries: April 1 – June 28\, 2025 (12 AM – 9:55 PM)🎟 How to Enter: Earn 1 entry for every 100 points on your Player’s Gold card. Plus\, get a free entry every Saturday by swiping at the kiosk starting at 7 AM! \n💰 Free Play Drawings: Saturdays in April\, May & June | 6 PM – 9 PM🏆 Grand Prize Drawings:🔹 April 26 @ 10 PM🔹 May 31 @ 10 PM🔹 June 28 @ 10 PM \nOne lucky winner each month will drive home in a brand-new 2025 Dodge Hornet\, Jeep Compass\, or Jeep Wrangler! 🚘💨 \nThe more you play\, the better your chances. Will you be our next big winner?
URL:https://www.goldenacorncasino.com/event-promotion/triple-threat-giveaway/2025-06-07/
CATEGORIES:Promotions
ATTACH;FMTTYPE=image/jpeg:https://www.goldenacorncasino.com/wp-content/uploads/2025/04/Saturday.jpg
END:VEVENT
END:VCALENDAR