BEGIN:VCALENDAR
VERSION:2.0
PRODID:-//Golden Acorn Casino - ECPv5.8.0//NONSGML v1.0//EN
CALSCALE:GREGORIAN
METHOD:PUBLISH
X-WR-CALNAME:Golden Acorn Casino
X-ORIGINAL-URL:https://www.goldenacorncasino.com
X-WR-CALDESC:Events for Golden Acorn Casino
BEGIN:VTIMEZONE
TZID:America/Los_Angeles
BEGIN:DAYLIGHT
TZOFFSETFROM:-0800
TZOFFSETTO:-0700
TZNAME:PDT
DTSTART:20250309T100000
END:DAYLIGHT
BEGIN:STANDARD
TZOFFSETFROM:-0700
TZOFFSETTO:-0800
TZNAME:PST
DTSTART:20251102T090000
END:STANDARD
END:VTIMEZONE
BEGIN:VEVENT
DTSTART;TZID=America/Los_Angeles:20251129T190000
DTEND;TZID=America/Los_Angeles:20251129T230000
DTSTAMP:20260419T050848
CREATED:20250212T210824Z
LAST-MODIFIED:20250212T210824Z
UID:9204-1764442800-1764457200@www.goldenacorncasino.com
SUMMARY:The Sticky Sweets
DESCRIPTION:The Sticky Sweets are playing on November 29th\, 2025 from 7-11pm! \nLooking for the perfect Saturday night out? Join us at Golden Acorn Casino for live entertainment every Saturday! Enjoy thrilling performances\, great music\, and an electric atmosphere while you play\, dine\, and unwind. Don’t miss out on the best weekend fun—gather your friends and make it a night to remember!
URL:https://www.goldenacorncasino.com/event-promotion/the-sticky-sweets-4/
CATEGORIES:Entertainment
ATTACH;FMTTYPE=image/png:https://www.goldenacorncasino.com/wp-content/uploads/2025/02/Sticky-Sweets.png
END:VEVENT
END:VCALENDAR