BEGIN:VCALENDAR
VERSION:2.0
PRODID:-//Golden Acorn Casino - ECPv5.8.0//NONSGML v1.0//EN
CALSCALE:GREGORIAN
METHOD:PUBLISH
X-WR-CALNAME:Golden Acorn Casino
X-ORIGINAL-URL:https://www.goldenacorncasino.com
X-WR-CALDESC:Events for Golden Acorn Casino
BEGIN:VTIMEZONE
TZID:America/Los_Angeles
BEGIN:DAYLIGHT
TZOFFSETFROM:-0800
TZOFFSETTO:-0700
TZNAME:PDT
DTSTART:20260308T100000
END:DAYLIGHT
BEGIN:STANDARD
TZOFFSETFROM:-0700
TZOFFSETTO:-0800
TZNAME:PST
DTSTART:20261101T090000
END:STANDARD
END:VTIMEZONE
BEGIN:VEVENT
DTSTART;TZID=America/Los_Angeles:20260314T190000
DTEND;TZID=America/Los_Angeles:20260314T230000
DTSTAMP:20260419T055930
CREATED:20260302T200352Z
LAST-MODIFIED:20260302T200352Z
UID:10227-1773514800-1773529200@www.goldenacorncasino.com
SUMMARY:Sticky Sweets
DESCRIPTION:Get ready for an unforgettable night as Sticky Sweets takes the stage on March 14!\nThey bring the perfect mix of great music and great vibes!\nJoin us for an exciting evening you won’t want to miss!
URL:https://www.goldenacorncasino.com/event-promotion/sticky-sweets/
CATEGORIES:Entertainment
ATTACH;FMTTYPE=image/png:https://www.goldenacorncasino.com/wp-content/uploads/2026/03/sticky-sweets.png
END:VEVENT
END:VCALENDAR