BEGIN:VCALENDAR
VERSION:2.0
PRODID:-//Golden Acorn Casino - ECPv5.8.0//NONSGML v1.0//EN
CALSCALE:GREGORIAN
METHOD:PUBLISH
X-WR-CALNAME:Golden Acorn Casino
X-ORIGINAL-URL:https://www.goldenacorncasino.com
X-WR-CALDESC:Events for Golden Acorn Casino
BEGIN:VTIMEZONE
TZID:America/Los_Angeles
BEGIN:DAYLIGHT
TZOFFSETFROM:-0800
TZOFFSETTO:-0700
TZNAME:PDT
DTSTART:20250309T100000
END:DAYLIGHT
BEGIN:STANDARD
TZOFFSETFROM:-0700
TZOFFSETTO:-0800
TZNAME:PST
DTSTART:20251102T090000
END:STANDARD
END:VTIMEZONE
BEGIN:VEVENT
DTSTART;TZID=America/Los_Angeles:20250930T070000
DTEND;TZID=America/Los_Angeles:20250930T235900
DTSTAMP:20260419T180636
CREATED:20250903T174508Z
LAST-MODIFIED:20250903T174508Z
UID:9823-1759215600-1759276740@www.goldenacorncasino.com
SUMMARY:Stampede Spin to Win
DESCRIPTION:On Tuesdays\, September 2\, 9\, 16\, 23 & 30\, 2025 from 7am to 12am\, customers that earn 100 points on any slot machine can win an extra $20-$1\,000 in Free Play
URL:https://www.goldenacorncasino.com/event-promotion/stampede-spin-to-win/2025-09-30/
CATEGORIES:Promotions
ATTACH;FMTTYPE=image/jpeg:https://www.goldenacorncasino.com/wp-content/uploads/2025/09/GOLDN0678-SEP-Stampede-Web_1920-x-1080.jpg
END:VEVENT
BEGIN:VEVENT
DTSTART;TZID=America/Los_Angeles:20250923T070000
DTEND;TZID=America/Los_Angeles:20250923T235900
DTSTAMP:20260419T180636
CREATED:20250903T174508Z
LAST-MODIFIED:20250903T174508Z
UID:9822-1758610800-1758671940@www.goldenacorncasino.com
SUMMARY:Stampede Spin to Win
DESCRIPTION:On Tuesdays\, September 2\, 9\, 16\, 23 & 30\, 2025 from 7am to 12am\, customers that earn 100 points on any slot machine can win an extra $20-$1\,000 in Free Play
URL:https://www.goldenacorncasino.com/event-promotion/stampede-spin-to-win/2025-09-23/
CATEGORIES:Promotions
ATTACH;FMTTYPE=image/jpeg:https://www.goldenacorncasino.com/wp-content/uploads/2025/09/GOLDN0678-SEP-Stampede-Web_1920-x-1080.jpg
END:VEVENT
BEGIN:VEVENT
DTSTART;TZID=America/Los_Angeles:20250916T070000
DTEND;TZID=America/Los_Angeles:20250916T235900
DTSTAMP:20260419T180636
CREATED:20250903T174508Z
LAST-MODIFIED:20250903T174508Z
UID:9821-1758006000-1758067140@www.goldenacorncasino.com
SUMMARY:Stampede Spin to Win
DESCRIPTION:On Tuesdays\, September 2\, 9\, 16\, 23 & 30\, 2025 from 7am to 12am\, customers that earn 100 points on any slot machine can win an extra $20-$1\,000 in Free Play
URL:https://www.goldenacorncasino.com/event-promotion/stampede-spin-to-win/2025-09-16/
CATEGORIES:Promotions
ATTACH;FMTTYPE=image/jpeg:https://www.goldenacorncasino.com/wp-content/uploads/2025/09/GOLDN0678-SEP-Stampede-Web_1920-x-1080.jpg
END:VEVENT
BEGIN:VEVENT
DTSTART;TZID=America/Los_Angeles:20250909T070000
DTEND;TZID=America/Los_Angeles:20250909T235900
DTSTAMP:20260419T180636
CREATED:20250903T174508Z
LAST-MODIFIED:20250903T174508Z
UID:9820-1757401200-1757462340@www.goldenacorncasino.com
SUMMARY:Stampede Spin to Win
DESCRIPTION:On Tuesdays\, September 2\, 9\, 16\, 23 & 30\, 2025 from 7am to 12am\, customers that earn 100 points on any slot machine can win an extra $20-$1\,000 in Free Play
URL:https://www.goldenacorncasino.com/event-promotion/stampede-spin-to-win/2025-09-09/
CATEGORIES:Promotions
ATTACH;FMTTYPE=image/jpeg:https://www.goldenacorncasino.com/wp-content/uploads/2025/09/GOLDN0678-SEP-Stampede-Web_1920-x-1080.jpg
END:VEVENT
BEGIN:VEVENT
DTSTART;TZID=America/Los_Angeles:20250902T070000
DTEND;TZID=America/Los_Angeles:20250902T235900
DTSTAMP:20260419T180636
CREATED:20250903T174508Z
LAST-MODIFIED:20250903T174508Z
UID:9818-1756796400-1756857540@www.goldenacorncasino.com
SUMMARY:Stampede Spin to Win
DESCRIPTION:On Tuesdays\, September 2\, 9\, 16\, 23 & 30\, 2025 from 7am to 12am\, customers that earn 100 points on any slot machine can win an extra $20-$1\,000 in Free Play
URL:https://www.goldenacorncasino.com/event-promotion/stampede-spin-to-win/
CATEGORIES:Promotions
ATTACH;FMTTYPE=image/jpeg:https://www.goldenacorncasino.com/wp-content/uploads/2025/09/GOLDN0678-SEP-Stampede-Web_1920-x-1080.jpg
END:VEVENT
END:VCALENDAR