BEGIN:VCALENDAR
VERSION:2.0
PRODID:-//Golden Acorn Casino - ECPv5.8.0//NONSGML v1.0//EN
CALSCALE:GREGORIAN
METHOD:PUBLISH
X-WR-CALNAME:Golden Acorn Casino
X-ORIGINAL-URL:https://www.goldenacorncasino.com
X-WR-CALDESC:Events for Golden Acorn Casino
BEGIN:VTIMEZONE
TZID:America/Los_Angeles
BEGIN:DAYLIGHT
TZOFFSETFROM:-0800
TZOFFSETTO:-0700
TZNAME:PDT
DTSTART:20250309T100000
END:DAYLIGHT
BEGIN:STANDARD
TZOFFSETFROM:-0700
TZOFFSETTO:-0800
TZNAME:PST
DTSTART:20251102T090000
END:STANDARD
END:VTIMEZONE
BEGIN:VEVENT
DTSTART;TZID=America/Los_Angeles:20250704T180000
DTEND;TZID=America/Los_Angeles:20250704T220000
DTSTAMP:20260424T053847
CREATED:20250626T210259Z
LAST-MODIFIED:20250705T032322Z
UID:9665-1751652000-1751666400@www.goldenacorncasino.com
SUMMARY:Splashin' into Freeplay
DESCRIPTION:Fridays in July\, Player’s Club members earn one entry for every 100 points from 12AM to 9:55PM. Starting at 6PM\, one lucky winner will be drawn every half hour to fish out three prize ducks from our kiddie pool on stage! Each duck holds a surprise Free Play prize—add them up and you could win up to $500! Come make a splash and win big!
URL:https://www.goldenacorncasino.com/event-promotion/splashin-into-freeplay/2025-07-04/
CATEGORIES:Promotions
ATTACH;FMTTYPE=image/png:https://www.goldenacorncasino.com/wp-content/uploads/2025/06/Splashin-in-Freeplay-Fridays-1.png
END:VEVENT
END:VCALENDAR