BEGIN:VCALENDAR
VERSION:2.0
PRODID:-//Golden Acorn Casino - ECPv5.8.0//NONSGML v1.0//EN
CALSCALE:GREGORIAN
METHOD:PUBLISH
X-WR-CALNAME:Golden Acorn Casino
X-ORIGINAL-URL:https://www.goldenacorncasino.com
X-WR-CALDESC:Events for Golden Acorn Casino
BEGIN:VTIMEZONE
TZID:America/Los_Angeles
BEGIN:DAYLIGHT
TZOFFSETFROM:-0800
TZOFFSETTO:-0700
TZNAME:PDT
DTSTART:20250309T100000
END:DAYLIGHT
BEGIN:STANDARD
TZOFFSETFROM:-0700
TZOFFSETTO:-0800
TZNAME:PST
DTSTART:20251102T090000
END:STANDARD
END:VTIMEZONE
BEGIN:VEVENT
DTSTART;TZID=America/Los_Angeles:20250929T070000
DTEND;TZID=America/Los_Angeles:20250929T235900
DTSTAMP:20260419T193515
CREATED:20250903T174152Z
LAST-MODIFIED:20250903T174152Z
UID:9816-1759129200-1759190340@www.goldenacorncasino.com
SUMMARY:Smash the Piggy Bank
DESCRIPTION:On Mondays\, September 1\,8\,15\, 22 & 29\, 2025 from 7am to 12am\, customers that earn 100 points on any slot machine can win an extra $20-$1\,000 in Free Play
URL:https://www.goldenacorncasino.com/event-promotion/smash-the-piggy-bank/2025-09-29/
CATEGORIES:Promotions
ATTACH;FMTTYPE=image/jpeg:https://www.goldenacorncasino.com/wp-content/uploads/2025/09/GOLDN0677-SEP-Smash-Piggy-Bank-Web_1920-x-1080.jpg
END:VEVENT
BEGIN:VEVENT
DTSTART;TZID=America/Los_Angeles:20250922T070000
DTEND;TZID=America/Los_Angeles:20250922T235900
DTSTAMP:20260419T193515
CREATED:20250903T174152Z
LAST-MODIFIED:20250903T174152Z
UID:9815-1758524400-1758585540@www.goldenacorncasino.com
SUMMARY:Smash the Piggy Bank
DESCRIPTION:On Mondays\, September 1\,8\,15\, 22 & 29\, 2025 from 7am to 12am\, customers that earn 100 points on any slot machine can win an extra $20-$1\,000 in Free Play
URL:https://www.goldenacorncasino.com/event-promotion/smash-the-piggy-bank/2025-09-22/
CATEGORIES:Promotions
ATTACH;FMTTYPE=image/jpeg:https://www.goldenacorncasino.com/wp-content/uploads/2025/09/GOLDN0677-SEP-Smash-Piggy-Bank-Web_1920-x-1080.jpg
END:VEVENT
BEGIN:VEVENT
DTSTART;TZID=America/Los_Angeles:20250915T070000
DTEND;TZID=America/Los_Angeles:20250915T235900
DTSTAMP:20260419T193515
CREATED:20250903T174152Z
LAST-MODIFIED:20250903T174152Z
UID:9814-1757919600-1757980740@www.goldenacorncasino.com
SUMMARY:Smash the Piggy Bank
DESCRIPTION:On Mondays\, September 1\,8\,15\, 22 & 29\, 2025 from 7am to 12am\, customers that earn 100 points on any slot machine can win an extra $20-$1\,000 in Free Play
URL:https://www.goldenacorncasino.com/event-promotion/smash-the-piggy-bank/2025-09-15/
CATEGORIES:Promotions
ATTACH;FMTTYPE=image/jpeg:https://www.goldenacorncasino.com/wp-content/uploads/2025/09/GOLDN0677-SEP-Smash-Piggy-Bank-Web_1920-x-1080.jpg
END:VEVENT
BEGIN:VEVENT
DTSTART;TZID=America/Los_Angeles:20250908T070000
DTEND;TZID=America/Los_Angeles:20250908T235900
DTSTAMP:20260419T193515
CREATED:20250903T174152Z
LAST-MODIFIED:20250903T174152Z
UID:9813-1757314800-1757375940@www.goldenacorncasino.com
SUMMARY:Smash the Piggy Bank
DESCRIPTION:On Mondays\, September 1\,8\,15\, 22 & 29\, 2025 from 7am to 12am\, customers that earn 100 points on any slot machine can win an extra $20-$1\,000 in Free Play
URL:https://www.goldenacorncasino.com/event-promotion/smash-the-piggy-bank/2025-09-08/
CATEGORIES:Promotions
ATTACH;FMTTYPE=image/jpeg:https://www.goldenacorncasino.com/wp-content/uploads/2025/09/GOLDN0677-SEP-Smash-Piggy-Bank-Web_1920-x-1080.jpg
END:VEVENT
BEGIN:VEVENT
DTSTART;TZID=America/Los_Angeles:20250901T070000
DTEND;TZID=America/Los_Angeles:20250901T235900
DTSTAMP:20260419T193515
CREATED:20250903T174152Z
LAST-MODIFIED:20250903T174152Z
UID:9812-1756710000-1756771140@www.goldenacorncasino.com
SUMMARY:Smash the Piggy Bank
DESCRIPTION:On Mondays\, September 1\,8\,15\, 22 & 29\, 2025 from 7am to 12am\, customers that earn 100 points on any slot machine can win an extra $20-$1\,000 in Free Play
URL:https://www.goldenacorncasino.com/event-promotion/smash-the-piggy-bank/
CATEGORIES:Promotions
ATTACH;FMTTYPE=image/jpeg:https://www.goldenacorncasino.com/wp-content/uploads/2025/09/GOLDN0677-SEP-Smash-Piggy-Bank-Web_1920-x-1080.jpg
END:VEVENT
END:VCALENDAR