BEGIN:VCALENDAR
VERSION:2.0
PRODID:-//Golden Acorn Casino - ECPv5.8.0//NONSGML v1.0//EN
CALSCALE:GREGORIAN
METHOD:PUBLISH
X-WR-CALNAME:Golden Acorn Casino
X-ORIGINAL-URL:https://www.goldenacorncasino.com
X-WR-CALDESC:Events for Golden Acorn Casino
BEGIN:VTIMEZONE
TZID:America/Los_Angeles
BEGIN:DAYLIGHT
TZOFFSETFROM:-0800
TZOFFSETTO:-0700
TZNAME:PDT
DTSTART:20250309T100000
END:DAYLIGHT
BEGIN:STANDARD
TZOFFSETFROM:-0700
TZOFFSETTO:-0800
TZNAME:PST
DTSTART:20251102T090000
END:STANDARD
END:VTIMEZONE
BEGIN:VEVENT
DTSTART;TZID=America/Los_Angeles:20250926T070000
DTEND;TZID=America/Los_Angeles:20250926T235900
DTSTAMP:20260424T083205
CREATED:20250903T175243Z
LAST-MODIFIED:20250903T175243Z
UID:9841-1758870000-1758931140@www.goldenacorncasino.com
SUMMARY:Roll with the Wild West
DESCRIPTION:Player’s Gold club members can receive one entry for every 50 points earned on Fridays\, September 5\, 12\, 19 & 26\, 2025 from 12:00AM to 11:59PM. Drawings are from 5:00pm to 9:00pm for one (1) winner every 30 minutes. The confirmed winner will roll the dice; your tier level determines the Free Play prizes as seen below
URL:https://www.goldenacorncasino.com/event-promotion/roll-with-the-wild-west/2025-09-26/
CATEGORIES:Promotions
ATTACH;FMTTYPE=image/jpeg:https://www.goldenacorncasino.com/wp-content/uploads/2025/09/GOLDN0681-SEP-Roll-with-Wild-West-Web_1920-x-1080.jpg
END:VEVENT
BEGIN:VEVENT
DTSTART;TZID=America/Los_Angeles:20250919T070000
DTEND;TZID=America/Los_Angeles:20250919T235900
DTSTAMP:20260424T083205
CREATED:20250903T175243Z
LAST-MODIFIED:20250903T175243Z
UID:9840-1758265200-1758326340@www.goldenacorncasino.com
SUMMARY:Roll with the Wild West
DESCRIPTION:Player’s Gold club members can receive one entry for every 50 points earned on Fridays\, September 5\, 12\, 19 & 26\, 2025 from 12:00AM to 11:59PM. Drawings are from 5:00pm to 9:00pm for one (1) winner every 30 minutes. The confirmed winner will roll the dice; your tier level determines the Free Play prizes as seen below
URL:https://www.goldenacorncasino.com/event-promotion/roll-with-the-wild-west/2025-09-19/
CATEGORIES:Promotions
ATTACH;FMTTYPE=image/jpeg:https://www.goldenacorncasino.com/wp-content/uploads/2025/09/GOLDN0681-SEP-Roll-with-Wild-West-Web_1920-x-1080.jpg
END:VEVENT
BEGIN:VEVENT
DTSTART;TZID=America/Los_Angeles:20250912T070000
DTEND;TZID=America/Los_Angeles:20250912T235900
DTSTAMP:20260424T083205
CREATED:20250903T175243Z
LAST-MODIFIED:20250903T175243Z
UID:9839-1757660400-1757721540@www.goldenacorncasino.com
SUMMARY:Roll with the Wild West
DESCRIPTION:Player’s Gold club members can receive one entry for every 50 points earned on Fridays\, September 5\, 12\, 19 & 26\, 2025 from 12:00AM to 11:59PM. Drawings are from 5:00pm to 9:00pm for one (1) winner every 30 minutes. The confirmed winner will roll the dice; your tier level determines the Free Play prizes as seen below
URL:https://www.goldenacorncasino.com/event-promotion/roll-with-the-wild-west/2025-09-12/
CATEGORIES:Promotions
ATTACH;FMTTYPE=image/jpeg:https://www.goldenacorncasino.com/wp-content/uploads/2025/09/GOLDN0681-SEP-Roll-with-Wild-West-Web_1920-x-1080.jpg
END:VEVENT
BEGIN:VEVENT
DTSTART;TZID=America/Los_Angeles:20250905T070000
DTEND;TZID=America/Los_Angeles:20250905T235900
DTSTAMP:20260424T083205
CREATED:20250903T175243Z
LAST-MODIFIED:20250903T175243Z
UID:9837-1757055600-1757116740@www.goldenacorncasino.com
SUMMARY:Roll with the Wild West
DESCRIPTION:Player’s Gold club members can receive one entry for every 50 points earned on Fridays\, September 5\, 12\, 19 & 26\, 2025 from 12:00AM to 11:59PM. Drawings are from 5:00pm to 9:00pm for one (1) winner every 30 minutes. The confirmed winner will roll the dice; your tier level determines the Free Play prizes as seen below
URL:https://www.goldenacorncasino.com/event-promotion/roll-with-the-wild-west/
CATEGORIES:Promotions
ATTACH;FMTTYPE=image/jpeg:https://www.goldenacorncasino.com/wp-content/uploads/2025/09/GOLDN0681-SEP-Roll-with-Wild-West-Web_1920-x-1080.jpg
END:VEVENT
END:VCALENDAR