BEGIN:VCALENDAR
VERSION:2.0
PRODID:-//Golden Acorn Casino - ECPv5.8.0//NONSGML v1.0//EN
CALSCALE:GREGORIAN
METHOD:PUBLISH
X-WR-CALNAME:Golden Acorn Casino
X-ORIGINAL-URL:https://www.goldenacorncasino.com
X-WR-CALDESC:Events for Golden Acorn Casino
BEGIN:VTIMEZONE
TZID:America/Los_Angeles
BEGIN:DAYLIGHT
TZOFFSETFROM:-0800
TZOFFSETTO:-0700
TZNAME:PDT
DTSTART:20250309T100000
END:DAYLIGHT
BEGIN:STANDARD
TZOFFSETFROM:-0700
TZOFFSETTO:-0800
TZNAME:PST
DTSTART:20251102T090000
END:STANDARD
END:VTIMEZONE
BEGIN:VEVENT
DTSTART;TZID=America/Los_Angeles:20250719T190000
DTEND;TZID=America/Los_Angeles:20250719T220000
DTSTAMP:20260424T002247
CREATED:20250626T210524Z
LAST-MODIFIED:20250626T210555Z
UID:9681-1752951600-1752962400@www.goldenacorncasino.com
SUMMARY:Ride the Waves & Reel in the Cash
DESCRIPTION:Make waves this July! Earn 1 entry for every 200 points from July 1–26. Every Saturday\, win cash \nhourly from 7PM–10PM. Then on July 26 at 10:30PM\, one lucky winner will ride off with a pair of Sea-Doo Jet Skis and a trailer! Want better odds? Players Gold members earn double entries every Tuesday and Wednesday! \n  \nMust be present to win. Make\, model and color may differ from image shown above. \nManagement reserves all rights. See Player’s Gold booth for details.
URL:https://www.goldenacorncasino.com/event-promotion/ride-the-waves-reel-in-the-cash/2025-07-19/
CATEGORIES:Promotions
ATTACH;FMTTYPE=image/png:https://www.goldenacorncasino.com/wp-content/uploads/2025/06/Reel-in-the-Cash-Saturdays-1.png
END:VEVENT
END:VCALENDAR