BEGIN:VCALENDAR
VERSION:2.0
PRODID:-//Golden Acorn Casino - ECPv5.8.0//NONSGML v1.0//EN
CALSCALE:GREGORIAN
METHOD:PUBLISH
X-WR-CALNAME:Golden Acorn Casino
X-ORIGINAL-URL:https://www.goldenacorncasino.com
X-WR-CALDESC:Events for Golden Acorn Casino
BEGIN:VTIMEZONE
TZID:America/Los_Angeles
BEGIN:DAYLIGHT
TZOFFSETFROM:-0800
TZOFFSETTO:-0700
TZNAME:PDT
DTSTART:20250309T100000
END:DAYLIGHT
BEGIN:STANDARD
TZOFFSETFROM:-0700
TZOFFSETTO:-0800
TZNAME:PST
DTSTART:20251102T090000
END:STANDARD
END:VTIMEZONE
BEGIN:VEVENT
DTSTART;TZID=America/Los_Angeles:20250617T070000
DTEND;TZID=America/Los_Angeles:20250617T235900
DTSTAMP:20260425T212134
CREATED:20250512T175106Z
LAST-MODIFIED:20250512T175132Z
UID:9524-1750143600-1750204740@www.goldenacorncasino.com
SUMMARY:Myths & Legends Tuesdays
DESCRIPTION:Unlock Legendary Wins Every Tuesday!Player’s Club heroes\, earn 100 points on any slot from 7AM to 12AM and journey to the Myths and Legends: Pick & Win kiosk game.Choose your fate and you could walk away with up to $1\,000 in Freeplay!The legends are true—Tuesdays are full of treasure!
URL:https://www.goldenacorncasino.com/event-promotion/myths-legends-tuesdays/2025-06-17/
CATEGORIES:Promotions
ATTACH;FMTTYPE=image/png:https://www.goldenacorncasino.com/wp-content/uploads/2025/05/Website-Tuesday.png
END:VEVENT
END:VCALENDAR