BEGIN:VCALENDAR
VERSION:2.0
PRODID:-//Golden Acorn Casino - ECPv5.8.0//NONSGML v1.0//EN
CALSCALE:GREGORIAN
METHOD:PUBLISH
X-WR-CALNAME:Golden Acorn Casino
X-ORIGINAL-URL:https://www.goldenacorncasino.com
X-WR-CALDESC:Events for Golden Acorn Casino
BEGIN:VTIMEZONE
TZID:America/Los_Angeles
BEGIN:DAYLIGHT
TZOFFSETFROM:-0800
TZOFFSETTO:-0700
TZNAME:PDT
DTSTART:20250309T100000
END:DAYLIGHT
BEGIN:STANDARD
TZOFFSETFROM:-0700
TZOFFSETTO:-0800
TZNAME:PST
DTSTART:20251102T090000
END:STANDARD
END:VTIMEZONE
BEGIN:VEVENT
DTSTART;TZID=America/Los_Angeles:20250630T070000
DTEND;TZID=America/Los_Angeles:20250630T235900
DTSTAMP:20260424T111753
CREATED:20250512T174843Z
LAST-MODIFIED:20250512T174926Z
UID:9516-1751266800-1751327940@www.goldenacorncasino.com
SUMMARY:Mystery Scratcher Mondays
DESCRIPTION:Spin\, Scratch\, and Score Big!Player’s Club hotshots\, earn 100 points on your favorite slots from 7AM to 12AM every Monday and take a swing at the Mystery Scratcher kiosk game!You could reveal a jackpot of up to $1\,000 in Freeplay—no bluff\, just pure Monday magic.Hit the floor\, earn your points\, and let luck do the rest!
URL:https://www.goldenacorncasino.com/event-promotion/mystery-scratcher-mondays/2025-06-30/
CATEGORIES:Promotions
ATTACH;FMTTYPE=image/png:https://www.goldenacorncasino.com/wp-content/uploads/2025/05/Website-Monday.png
END:VEVENT
END:VCALENDAR