BEGIN:VCALENDAR
VERSION:2.0
PRODID:-//Golden Acorn Casino - ECPv5.8.0//NONSGML v1.0//EN
CALSCALE:GREGORIAN
METHOD:PUBLISH
X-WR-CALNAME:Golden Acorn Casino
X-ORIGINAL-URL:https://www.goldenacorncasino.com
X-WR-CALDESC:Events for Golden Acorn Casino
BEGIN:VTIMEZONE
TZID:America/Los_Angeles
BEGIN:DAYLIGHT
TZOFFSETFROM:-0800
TZOFFSETTO:-0700
TZNAME:PDT
DTSTART:20250309T100000
END:DAYLIGHT
BEGIN:STANDARD
TZOFFSETFROM:-0700
TZOFFSETTO:-0800
TZNAME:PST
DTSTART:20251102T090000
END:STANDARD
END:VTIMEZONE
BEGIN:VEVENT
DTSTART;TZID=America/Los_Angeles:20250727T120000
DTEND;TZID=America/Los_Angeles:20250727T190000
DTSTAMP:20260424T031251
CREATED:20250626T210827Z
LAST-MODIFIED:20250626T210848Z
UID:9690-1753617600-1753642800@www.goldenacorncasino.com
SUMMARY:Master Chef Cookware Giveaway
DESCRIPTION:Stop on by between 12:00 PM and 7:00 PM on Sundays\, July 6\, 13\, 20 and 27 to collect exclusive items from our Master Chef Collection Giveaway. Each week\, pick up a different item—12-piece Melamine Dinnerware set\, 5-piece acrylic Drinkware set\, Serving Bowl with Utensils & 3-piece Acrylic Chip & Dip Set—and complete your set!
URL:https://www.goldenacorncasino.com/event-promotion/master-chef-cookware-giveaway/2025-07-27/
CATEGORIES:Promotions
ATTACH;FMTTYPE=image/png:https://www.goldenacorncasino.com/wp-content/uploads/2025/06/Master-Cookware-Sundays.png
END:VEVENT
END:VCALENDAR