BEGIN:VCALENDAR
VERSION:2.0
PRODID:-//Golden Acorn Casino - ECPv5.8.0//NONSGML v1.0//EN
CALSCALE:GREGORIAN
METHOD:PUBLISH
X-WR-CALNAME:Golden Acorn Casino
X-ORIGINAL-URL:https://www.goldenacorncasino.com
X-WR-CALDESC:Events for Golden Acorn Casino
BEGIN:VTIMEZONE
TZID:America/Los_Angeles
BEGIN:DAYLIGHT
TZOFFSETFROM:-0800
TZOFFSETTO:-0700
TZNAME:PDT
DTSTART:20250309T100000
END:DAYLIGHT
BEGIN:STANDARD
TZOFFSETFROM:-0700
TZOFFSETTO:-0800
TZNAME:PST
DTSTART:20251102T090000
END:STANDARD
END:VTIMEZONE
BEGIN:VEVENT
DTSTART;TZID=America/Los_Angeles:20250613T180000
DTEND;TZID=America/Los_Angeles:20250613T220000
DTSTAMP:20260425T093244
CREATED:20250512T181411Z
LAST-MODIFIED:20250512T181440Z
UID:9547-1749837600-1749852000@www.goldenacorncasino.com
SUMMARY:Hotseats: Spinout!
DESCRIPTION:Hotseats: Spinout!Fridays are shifting into high gear! \nJoin us on Fridays in June\, from 6:00PM to 10:00PM\, and if you’re actively playing with your Player’s Gold card in any slot machine\, you’re in the fast lane for a chance to win. \nA random winner will be selected every 30 minutes. If your name gets called\, our Marketing team will roll up so you can spin the prize wheel and claim your reward. \nKeep those reels moving—because at any moment\, it could be your time to Spinout!
URL:https://www.goldenacorncasino.com/event-promotion/hotseats-spinout/2025-06-13/
CATEGORIES:Promotions
ATTACH;FMTTYPE=image/png:https://www.goldenacorncasino.com/wp-content/uploads/2025/05/Website-Friday.png
END:VEVENT
END:VCALENDAR