BEGIN:VCALENDAR
VERSION:2.0
PRODID:-//Golden Acorn Casino - ECPv5.8.0//NONSGML v1.0//EN
CALSCALE:GREGORIAN
METHOD:PUBLISH
X-WR-CALNAME:Golden Acorn Casino
X-ORIGINAL-URL:https://www.goldenacorncasino.com
X-WR-CALDESC:Events for Golden Acorn Casino
BEGIN:VTIMEZONE
TZID:America/Los_Angeles
BEGIN:DAYLIGHT
TZOFFSETFROM:-0800
TZOFFSETTO:-0700
TZNAME:PDT
DTSTART:20250309T100000
END:DAYLIGHT
BEGIN:STANDARD
TZOFFSETFROM:-0700
TZOFFSETTO:-0800
TZNAME:PST
DTSTART:20251102T090000
END:STANDARD
END:VTIMEZONE
BEGIN:VEVENT
DTSTART;TZID=America/Los_Angeles:20250601T120000
DTEND;TZID=America/Los_Angeles:20250601T190000
DTSTAMP:20260424T170744
CREATED:20250512T182633Z
LAST-MODIFIED:20250512T182703Z
UID:9554-1748779200-1748804400@www.goldenacorncasino.com
SUMMARY:Elevate your Ride Sundays
DESCRIPTION:Elevate Your Ride – Firestone GiveawaySundays in June just got a major upgrade! \nStop by between 12:00PM and 7:00PM on June 1\, 8\, 15\, 22\, and 29 to collect exclusive Firestone gear during our Elevate Your Ride Giveaway. \nEach week brings a new must-have item: \n\n\nFirestone Compressor \n\n\nFirestone Vacuum \n\n\nFirestone 2-Pack Sunshade \n\n\nFirestone Tire Emergency Kit \n\n\nFirestone Car Wash Kit \n\n\nDon’t miss a week—complete the full set and keep your ride road-ready in style!
URL:https://www.goldenacorncasino.com/event-promotion/elevate-your-ride-sundays/2025-06-01/
CATEGORIES:Promotions
ATTACH;FMTTYPE=image/png:https://www.goldenacorncasino.com/wp-content/uploads/2025/05/Website-Sunday.png
END:VEVENT
END:VCALENDAR