BEGIN:VCALENDAR
VERSION:2.0
PRODID:-//Golden Acorn Casino - ECPv5.8.0//NONSGML v1.0//EN
CALSCALE:GREGORIAN
METHOD:PUBLISH
X-WR-CALNAME:Golden Acorn Casino
X-ORIGINAL-URL:https://www.goldenacorncasino.com
X-WR-CALDESC:Events for Golden Acorn Casino
BEGIN:VTIMEZONE
TZID:America/Los_Angeles
BEGIN:DAYLIGHT
TZOFFSETFROM:-0800
TZOFFSETTO:-0700
TZNAME:PDT
DTSTART:20250309T100000
END:DAYLIGHT
BEGIN:STANDARD
TZOFFSETFROM:-0700
TZOFFSETTO:-0800
TZNAME:PST
DTSTART:20251102T090000
END:STANDARD
END:VTIMEZONE
BEGIN:VEVENT
DTSTART;TZID=America/Los_Angeles:20250628T190000
DTEND;TZID=America/Los_Angeles:20250628T230000
DTSTAMP:20260425T033428
CREATED:20250421T163611Z
LAST-MODIFIED:20250421T163611Z
UID:9480-1751137200-1751151600@www.goldenacorncasino.com
SUMMARY:DJ C-RIZ
DESCRIPTION:DJ C-RIZ Live – June 28\, 2025 | 7PM–11PMLooking for the perfect Saturday night out? Head to Golden Acorn Casino for live entertainment every Saturday!On June 28th\, enjoy an unforgettable performance by DJ C-RIZ—great music\, good vibes\, and nonstop fun.Play\, dine\, and dance the night away. This is your sign to make it a Saturday to remember!
URL:https://www.goldenacorncasino.com/event-promotion/dj-c-riz-5/
CATEGORIES:Entertainment
ATTACH;FMTTYPE=image/png:https://www.goldenacorncasino.com/wp-content/uploads/2025/02/DJ-C-RIZ.png
END:VEVENT
END:VCALENDAR