BEGIN:VCALENDAR
VERSION:2.0
PRODID:-//Golden Acorn Casino - ECPv5.8.0//NONSGML v1.0//EN
CALSCALE:GREGORIAN
METHOD:PUBLISH
X-WR-CALNAME:Golden Acorn Casino
X-ORIGINAL-URL:https://www.goldenacorncasino.com
X-WR-CALDESC:Events for Golden Acorn Casino
BEGIN:VTIMEZONE
TZID:America/Los_Angeles
BEGIN:DAYLIGHT
TZOFFSETFROM:-0800
TZOFFSETTO:-0700
TZNAME:PDT
DTSTART:20250309T100000
END:DAYLIGHT
BEGIN:STANDARD
TZOFFSETFROM:-0700
TZOFFSETTO:-0800
TZNAME:PST
DTSTART:20251102T090000
END:STANDARD
END:VTIMEZONE
BEGIN:VEVENT
DTSTART;TZID=America/Los_Angeles:20250714T070000
DTEND;TZID=America/Los_Angeles:20250714T235900
DTSTAMP:20260424T075846
CREATED:20250626T195357Z
LAST-MODIFIED:20250626T195357Z
UID:9616-1752476400-1752537540@www.goldenacorncasino.com
SUMMARY:Clowning Around Kiosk Game
DESCRIPTION:Clowning Around Kiosk Game – Mondays in JulyPlay your way to extra fun every Monday in July! From 7AM to 12AM\, earn 250 points on any slot machine and unlock a chance to win up to $1\,000 in Free Play through our Clowning Around kiosk game. \nPrizes are limited—so don’t miss your shot at a big win!
URL:https://www.goldenacorncasino.com/event-promotion/clowning-around-kiosk-game/2025-07-14/
CATEGORIES:Promotions
ATTACH;FMTTYPE=image/png:https://www.goldenacorncasino.com/wp-content/uploads/2025/06/Clowning-Around-Mondays.png
END:VEVENT
END:VCALENDAR